BEGIN:VCALENDAR
VERSION:2.0
PRODID:-//Plone.org//NONSGML plone.app.event//EN
X-WR-TIMEZONE:Europe/Berlin
BEGIN:VEVENT
SUMMARY:La plastica e noi
DTSTART;TZID=Europe/Berlin;VALUE=DATE-TIME:20200724T100000
DTEND;TZID=Europe/Berlin;VALUE=DATE-TIME:20211231T110000
DTSTAMP;VALUE=DATE-TIME:20260419T215703Z
UID:45aad6055d18406f821a8e25e7b3d03a@www.isprambiente.gov.it
CONTACT:https://www.msn.unipi.it/it/eventi/la-plastica-e-noi/
CREATED;VALUE=DATE-TIME:20200803T082526Z
LAST-MODIFIED;VALUE=DATE-TIME:20230120T133415Z
URL:https://www.isprambiente.gov.it/it/attivita/museo/calendario-eventi/20
 20/la-plastica-e-noi
END:VEVENT
BEGIN:VTIMEZONE
TZID:Europe/Berlin
X-LIC-LOCATION:Europe/Berlin
BEGIN:DAYLIGHT
DTSTART;VALUE=DATE-TIME:20200329T030000
TZNAME:CEST
TZOFFSETFROM:+0100
TZOFFSETTO:+0200
END:DAYLIGHT
BEGIN:STANDARD
DTSTART;VALUE=DATE-TIME:20211031T020000
TZNAME:CET
TZOFFSETFROM:+0200
TZOFFSETTO:+0100
END:STANDARD
END:VTIMEZONE
END:VCALENDAR
