BEGIN:VCALENDAR
VERSION:2.0
PRODID:-//Plone.org//NONSGML plone.app.event//EN
X-WR-TIMEZONE:Europe/Berlin
BEGIN:VEVENT
SUMMARY:LaboratoriAmo
DTSTART;TZID=Europe/Berlin;VALUE=DATE-TIME:20201106T090000
DTEND;TZID=Europe/Berlin;VALUE=DATE-TIME:20201120T100000
DTSTAMP;VALUE=DATE-TIME:20260419T202513Z
UID:e336da481e6941eda20038709183e6fc@www.isprambiente.gov.it
CONTACT:http://www.anms.it/eventi/dettaglio_evento/4559
CREATED;VALUE=DATE-TIME:20201103T084542Z
LAST-MODIFIED;VALUE=DATE-TIME:20230120T134356Z
URL:https://www.isprambiente.gov.it/it/attivita/museo/calendario-eventi/20
 20/laboratoriamo
END:VEVENT
BEGIN:VTIMEZONE
TZID:Europe/Berlin
X-LIC-LOCATION:Europe/Berlin
BEGIN:STANDARD
DTSTART;VALUE=DATE-TIME:20201025T020000
TZNAME:CET
TZOFFSETFROM:+0200
TZOFFSETTO:+0100
END:STANDARD
END:VTIMEZONE
END:VCALENDAR
