BEGIN:VCALENDAR
VERSION:2.0
PRODID:-//Plone.org//NONSGML plone.app.event//EN
X-WR-TIMEZONE:Europe/Berlin
BEGIN:VEVENT
SUMMARY:LACONA XIII "Lasers in the Conservation of Artworks"
DTSTART;TZID=Europe/Berlin;VALUE=DATE-TIME:20200914T092000
DTEND;TZID=Europe/Berlin;VALUE=DATE-TIME:20200918T092000
DTSTAMP;VALUE=DATE-TIME:20260419T221808Z
UID:3bd3cc54cc134a30a81ea58f6ae37e06@www.isprambiente.gov.it
CREATED;VALUE=DATE-TIME:20200116T102056Z
LAST-MODIFIED;VALUE=DATE-TIME:20230120T133405Z
URL:https://www.isprambiente.gov.it/it/attivita/museo/calendario-eventi/20
 20/lacona-xiii-lasers-in-the-conservation-of-artworks
END:VEVENT
BEGIN:VTIMEZONE
TZID:Europe/Berlin
X-LIC-LOCATION:Europe/Berlin
BEGIN:DAYLIGHT
DTSTART;VALUE=DATE-TIME:20200329T030000
TZNAME:CEST
TZOFFSETFROM:+0100
TZOFFSETTO:+0200
END:DAYLIGHT
END:VTIMEZONE
END:VCALENDAR
