BEGIN:VCALENDAR
VERSION:2.0
PRODID:-//Plone.org//NONSGML plone.app.event//EN
X-WR-TIMEZONE:Europe/Berlin
BEGIN:VEVENT
SUMMARY:LE GEOSCIENZE PER TUTTI: 10 ESPERTI RISPONDONO
DTSTART;TZID=Europe/Berlin;VALUE=DATE-TIME:20201005T090000
DTEND;TZID=Europe/Berlin;VALUE=DATE-TIME:20201005T100000
DTSTAMP;VALUE=DATE-TIME:20260419T220152Z
UID:3520fda974d041a186f408f9b71c2fbe@www.isprambiente.gov.it
CONTACT:https://www.settimanaterra.org/node/4181
CREATED;VALUE=DATE-TIME:20200930T075307Z
LAST-MODIFIED;VALUE=DATE-TIME:20230120T133415Z
URL:https://www.isprambiente.gov.it/it/attivita/museo/calendario-eventi/20
 20/le-geoscienze-per-tutti-10-esperti-rispondono
END:VEVENT
BEGIN:VTIMEZONE
TZID:Europe/Berlin
X-LIC-LOCATION:Europe/Berlin
BEGIN:DAYLIGHT
DTSTART;VALUE=DATE-TIME:20200329T030000
TZNAME:CEST
TZOFFSETFROM:+0100
TZOFFSETTO:+0200
END:DAYLIGHT
END:VTIMEZONE
END:VCALENDAR
