BEGIN:VCALENDAR
VERSION:2.0
PRODID:-//Plone.org//NONSGML plone.app.event//EN
X-WR-TIMEZONE:Europe/Berlin
BEGIN:VEVENT
SUMMARY:LE VILLE D’OTIUM ALLE FALDE DEL VESUVIO: PASSEGGIATA GEOARCHEOLO
 GICA NELLA VILLA DI POPPEA AGLI SCAVI DI OPLONTIS
DTSTART;TZID=Europe/Berlin;VALUE=DATE-TIME:20201010T090000
DTEND;TZID=Europe/Berlin;VALUE=DATE-TIME:20201010T100000
DTSTAMP;VALUE=DATE-TIME:20260419T221930Z
UID:bebb07f131414464bb7a2b8f9336a14f@www.isprambiente.gov.it
CONTACT:https://www.settimanaterra.org/node/4122
CREATED;VALUE=DATE-TIME:20200930T074630Z
LAST-MODIFIED;VALUE=DATE-TIME:20230120T133415Z
URL:https://www.isprambiente.gov.it/it/attivita/museo/calendario-eventi/20
 20/le-ville-d2019otium-alle-falde-del-vesuvio-passeggiata-geoarcheologica-
 nella-villa-di-poppea-agli-scavi-di-oplontis
END:VEVENT
BEGIN:VTIMEZONE
TZID:Europe/Berlin
X-LIC-LOCATION:Europe/Berlin
BEGIN:DAYLIGHT
DTSTART;VALUE=DATE-TIME:20200329T030000
TZNAME:CEST
TZOFFSETFROM:+0100
TZOFFSETTO:+0200
END:DAYLIGHT
END:VTIMEZONE
END:VCALENDAR
