BEGIN:VCALENDAR
VERSION:2.0
PRODID:-//Plone.org//NONSGML plone.app.event//EN
X-WR-TIMEZONE:Europe/Berlin
BEGIN:VEVENT
SUMMARY:LO SGUARDO DELL’ANTROPOLOGO – I TALK
DTSTART;TZID=Europe/Berlin;VALUE=DATE-TIME:20200713T090000
DTEND;TZID=Europe/Berlin;VALUE=DATE-TIME:20200727T100000
DTSTAMP;VALUE=DATE-TIME:20260419T234358Z
UID:e5aefe2cbab34be8b2ddc939a199c438@www.isprambiente.gov.it
CONTACT:https://www.museoantropologia.unito.it/lo-sguardo-dellantropologo-
 i-talk/
CREATED;VALUE=DATE-TIME:20200717T073258Z
LAST-MODIFIED;VALUE=DATE-TIME:20230120T133415Z
URL:https://www.isprambiente.gov.it/it/attivita/museo/calendario-eventi/20
 20/lo-sguardo-dell2019antropologo-2013-i-talk
END:VEVENT
BEGIN:VTIMEZONE
TZID:Europe/Berlin
X-LIC-LOCATION:Europe/Berlin
BEGIN:DAYLIGHT
DTSTART;VALUE=DATE-TIME:20200329T030000
TZNAME:CEST
TZOFFSETFROM:+0100
TZOFFSETTO:+0200
END:DAYLIGHT
END:VTIMEZONE
END:VCALENDAR
