BEGIN:VCALENDAR
VERSION:2.0
PRODID:-//Plone.org//NONSGML plone.app.event//EN
X-WR-TIMEZONE:Europe/Berlin
BEGIN:VEVENT
SUMMARY:Minerali e miniere nel piacentino
DTSTART;TZID=Europe/Berlin;VALUE=DATE-TIME:20200613T170000
DTEND;TZID=Europe/Berlin;VALUE=DATE-TIME:20200908T180000
DTSTAMP;VALUE=DATE-TIME:20260419T234359Z
UID:ec722716a50d4c609243f4dc86c61b20@www.isprambiente.gov.it
CONTACT:https://www.comune.piacenza.it/benvenuti/eventi/da-non-perdere/mos
 tra-minerali-e-miniere-nel-piacentino
CREATED;VALUE=DATE-TIME:20200625T152944Z
LAST-MODIFIED;VALUE=DATE-TIME:20230120T133405Z
URL:https://www.isprambiente.gov.it/it/attivita/museo/calendario-eventi/20
 20/minerali-e-miniere-nel-piacentino
END:VEVENT
BEGIN:VTIMEZONE
TZID:Europe/Berlin
X-LIC-LOCATION:Europe/Berlin
BEGIN:DAYLIGHT
DTSTART;VALUE=DATE-TIME:20200329T030000
TZNAME:CEST
TZOFFSETFROM:+0100
TZOFFSETTO:+0200
END:DAYLIGHT
END:VTIMEZONE
END:VCALENDAR
