BEGIN:VCALENDAR
VERSION:2.0
PRODID:-//Plone.org//NONSGML plone.app.event//EN
X-WR-TIMEZONE:Europe/Berlin
BEGIN:VEVENT
SUMMARY:Mostra Filatelica Minatori E Miniere Tra Lampade E Sottosuolo
DTSTART;TZID=Europe/Berlin;VALUE=DATE-TIME:20201103T090000
DTEND;TZID=Europe/Berlin;VALUE=DATE-TIME:20201115T100000
DTSTAMP;VALUE=DATE-TIME:20260419T220757Z
UID:eb8e562a1b6a462698247e2d81acad19@www.isprambiente.gov.it
CONTACT:https://www.museodelcarbone.it/event/mostra-filatelica/
CREATED;VALUE=DATE-TIME:20201103T083939Z
LAST-MODIFIED;VALUE=DATE-TIME:20230120T134345Z
URL:https://www.isprambiente.gov.it/it/attivita/museo/calendario-eventi/20
 20/mostra-filatelica-minatori-e-miniere-tra-lampade-e-sottosuolo
END:VEVENT
BEGIN:VTIMEZONE
TZID:Europe/Berlin
X-LIC-LOCATION:Europe/Berlin
BEGIN:STANDARD
DTSTART;VALUE=DATE-TIME:20201025T020000
TZNAME:CET
TZOFFSETFROM:+0200
TZOFFSETTO:+0100
END:STANDARD
END:VTIMEZONE
END:VCALENDAR
