BEGIN:VCALENDAR
VERSION:2.0
PRODID:-//Plone.org//NONSGML plone.app.event//EN
X-WR-TIMEZONE:Europe/Berlin
BEGIN:VEVENT
SUMMARY:Mostra Fotografica a Maison Daynè fino a fine agosto
DTSTART;TZID=Europe/Berlin;VALUE=DATE-TIME:20200703T100000
DTEND;TZID=Europe/Berlin;VALUE=DATE-TIME:20200831T110000
DTSTAMP;VALUE=DATE-TIME:20260419T221820Z
UID:84fa1f63655d406eaa38ea2548a69acb@www.isprambiente.gov.it
CONTACT:https://www.minieredicogne.it/news/mostra-fotografica-a-maison-day
 ne-fino-a-fine-agosto
CREATED;VALUE=DATE-TIME:20200803T083300Z
LAST-MODIFIED;VALUE=DATE-TIME:20230120T133415Z
URL:https://www.isprambiente.gov.it/it/attivita/museo/calendario-eventi/20
 20/mostra-fotografica-a-maison-dayne-fino-a-fine-agosto
END:VEVENT
BEGIN:VTIMEZONE
TZID:Europe/Berlin
X-LIC-LOCATION:Europe/Berlin
BEGIN:DAYLIGHT
DTSTART;VALUE=DATE-TIME:20200329T030000
TZNAME:CEST
TZOFFSETFROM:+0100
TZOFFSETTO:+0200
END:DAYLIGHT
END:VTIMEZONE
END:VCALENDAR
