BEGIN:VCALENDAR
VERSION:2.0
PRODID:-//Plone.org//NONSGML plone.app.event//EN
X-WR-TIMEZONE:Europe/Berlin
BEGIN:VEVENT
SUMMARY:Mostra permanente collezione geologico-paleontologica e minerale
DTSTART;TZID=Europe/Berlin;VALUE=DATE-TIME:20230112T160000
DTEND;TZID=Europe/Berlin;VALUE=DATE-TIME:20230112T170000
DTSTAMP;VALUE=DATE-TIME:20260419T221821Z
UID:8ca462f246814b8c85c4112505a5b436@www.isprambiente.gov.it
CREATED;VALUE=DATE-TIME:20200410T122614Z
LAST-MODIFIED;VALUE=DATE-TIME:20230120T133405Z
LOCATION:Slovenia
URL:https://www.isprambiente.gov.it/it/attivita/museo/calendario-eventi/20
 20/mostra-permanente-collezione-geologico-paleontologica-e-minerale
END:VEVENT
BEGIN:VTIMEZONE
TZID:Europe/Berlin
X-LIC-LOCATION:Europe/Berlin
BEGIN:STANDARD
DTSTART;VALUE=DATE-TIME:20221030T020000
TZNAME:CET
TZOFFSETFROM:+0200
TZOFFSETTO:+0100
END:STANDARD
END:VTIMEZONE
END:VCALENDAR
