BEGIN:VCALENDAR
VERSION:2.0
PRODID:-//Plone.org//NONSGML plone.app.event//EN
X-WR-TIMEZONE:Europe/Berlin
BEGIN:VEVENT
SUMMARY:Muse di Mezza estate
DTSTART;TZID=Europe/Berlin;VALUE=DATE-TIME:20200725T090000
DTEND;TZID=Europe/Berlin;VALUE=DATE-TIME:20200725T100000
DTSTAMP;VALUE=DATE-TIME:20260419T202625Z
UID:0e50161ef3c6446d9aec9f7507bff5c1@www.isprambiente.gov.it
CONTACT:https://www.muse.it/it/Esplora/Eventi-Attivita/Archivio/Pagine/MUS
 E-di-mezza-estate-2020.aspx
CREATED;VALUE=DATE-TIME:20200727T073841Z
LAST-MODIFIED;VALUE=DATE-TIME:20230120T133415Z
URL:https://www.isprambiente.gov.it/it/attivita/museo/calendario-eventi/20
 20/muse-di-mezza-estate
END:VEVENT
BEGIN:VTIMEZONE
TZID:Europe/Berlin
X-LIC-LOCATION:Europe/Berlin
BEGIN:DAYLIGHT
DTSTART;VALUE=DATE-TIME:20200329T030000
TZNAME:CEST
TZOFFSETFROM:+0100
TZOFFSETTO:+0200
END:DAYLIGHT
END:VTIMEZONE
END:VCALENDAR
