BEGIN:VCALENDAR
VERSION:2.0
PRODID:-//Plone.org//NONSGML plone.app.event//EN
X-WR-TIMEZONE:Europe/Berlin
BEGIN:VEVENT
SUMMARY:MYTHOS creature fantastiche tra scienza e leggenda
DTSTART;TZID=Europe/Berlin;VALUE=DATE-TIME:20200606T100000
DTEND;TZID=Europe/Berlin;VALUE=DATE-TIME:20200830T110000
DTSTAMP;VALUE=DATE-TIME:20260419T221500Z
UID:68732475e268428d9db0ebf53c78c351@www.isprambiente.gov.it
CONTACT:http://www.visitgenoa.it/it/evento/mythos-creature-fantastiche-tra
 -scienza-e-leggenda
CREATED;VALUE=DATE-TIME:20200622T082902Z
LAST-MODIFIED;VALUE=DATE-TIME:20230120T133405Z
URL:https://www.isprambiente.gov.it/it/attivita/museo/calendario-eventi/20
 20/mythos-creature-fantastiche-tra-scienza-e-leggenda
END:VEVENT
BEGIN:VTIMEZONE
TZID:Europe/Berlin
X-LIC-LOCATION:Europe/Berlin
BEGIN:DAYLIGHT
DTSTART;VALUE=DATE-TIME:20200329T030000
TZNAME:CEST
TZOFFSETFROM:+0100
TZOFFSETTO:+0200
END:DAYLIGHT
END:VTIMEZONE
END:VCALENDAR
