BEGIN:VCALENDAR
VERSION:2.0
PRODID:-//Plone.org//NONSGML plone.app.event//EN
X-WR-TIMEZONE:Europe/Berlin
BEGIN:VEVENT
SUMMARY:NATALE 2020 con Città della Scienza!
DTSTART;TZID=Europe/Berlin;VALUE=DATE-TIME:20201208T090000
DTEND;TZID=Europe/Berlin;VALUE=DATE-TIME:20210106T100000
DTSTAMP;VALUE=DATE-TIME:20260419T202643Z
UID:164af6592d4b49b1adfd4820383c71fc@www.isprambiente.gov.it
CONTACT:http://www.cittadellascienza.it/notizie/natale-2020-con-citta-dell
 a-scienza/
CREATED;VALUE=DATE-TIME:20201214T080955Z
LAST-MODIFIED;VALUE=DATE-TIME:20230120T134356Z
URL:https://www.isprambiente.gov.it/it/attivita/museo/calendario-eventi/20
 20/natale-2020-con-citta-della-scienza
END:VEVENT
BEGIN:VTIMEZONE
TZID:Europe/Berlin
X-LIC-LOCATION:Europe/Berlin
BEGIN:STANDARD
DTSTART;VALUE=DATE-TIME:20201025T020000
TZNAME:CET
TZOFFSETFROM:+0200
TZOFFSETTO:+0100
END:STANDARD
END:VTIMEZONE
END:VCALENDAR
