BEGIN:VCALENDAR
VERSION:2.0
PRODID:-//Plone.org//NONSGML plone.app.event//EN
X-WR-TIMEZONE:Europe/Berlin
BEGIN:VEVENT
SUMMARY:OpenForumDD: 16 giorni in diretta per il Paese di domani
DTSTART;TZID=Europe/Berlin;VALUE=DATE-TIME:20201130T090000
DTEND;TZID=Europe/Berlin;VALUE=DATE-TIME:20201215T100000
DTSTAMP;VALUE=DATE-TIME:20260419T221633Z
UID:9fb95e48f2c14edcb8d21fc0d766fcf5@www.isprambiente.gov.it
CONTACT:http://www.ingv.it/it/stampa-e-urp/stampa/news/4683-openforumdd-16
 -giorni-in-diretta-per-il-paese-di-domani
CREATED;VALUE=DATE-TIME:20201214T080650Z
LAST-MODIFIED;VALUE=DATE-TIME:20230120T134356Z
URL:https://www.isprambiente.gov.it/it/attivita/museo/calendario-eventi/20
 20/openforumdd-16-giorni-in-diretta-per-il-paese-di-domani
END:VEVENT
BEGIN:VTIMEZONE
TZID:Europe/Berlin
X-LIC-LOCATION:Europe/Berlin
BEGIN:STANDARD
DTSTART;VALUE=DATE-TIME:20201025T020000
TZNAME:CET
TZOFFSETFROM:+0200
TZOFFSETTO:+0100
END:STANDARD
END:VTIMEZONE
END:VCALENDAR
