BEGIN:VCALENDAR
VERSION:2.0
PRODID:-//Plone.org//NONSGML plone.app.event//EN
X-WR-TIMEZONE:Europe/Berlin
BEGIN:VEVENT
SUMMARY:Parco Museo Minerario di Abbadia San Salvatore
DTSTART;TZID=Europe/Berlin;VALUE=DATE-TIME:20200718T100000
DTEND;TZID=Europe/Berlin;VALUE=DATE-TIME:20200831T110000
DTSTAMP;VALUE=DATE-TIME:20260419T221630Z
UID:2e2259e55bf64473821aba5e12e29991@www.isprambiente.gov.it
CONTACT:https://www.museominerario.it/2018/
CREATED;VALUE=DATE-TIME:20200803T081820Z
LAST-MODIFIED;VALUE=DATE-TIME:20230120T133415Z
URL:https://www.isprambiente.gov.it/it/attivita/museo/calendario-eventi/20
 20/parco-museo-minerario-di-abbadia-san-salvatore
END:VEVENT
BEGIN:VTIMEZONE
TZID:Europe/Berlin
X-LIC-LOCATION:Europe/Berlin
BEGIN:DAYLIGHT
DTSTART;VALUE=DATE-TIME:20200329T030000
TZNAME:CEST
TZOFFSETFROM:+0100
TZOFFSETTO:+0200
END:DAYLIGHT
END:VTIMEZONE
END:VCALENDAR
