BEGIN:VCALENDAR
VERSION:2.0
PRODID:-//Plone.org//NONSGML plone.app.event//EN
X-WR-TIMEZONE:Europe/Berlin
BEGIN:VEVENT
SUMMARY:Piccoli paleontologi alla scoperta della preistoria – Laboratori
 o al Museo Gamps di Scandicci
DTSTART;TZID=Europe/Berlin;VALUE=DATE-TIME:20201220T110000
DTEND;TZID=Europe/Berlin;VALUE=DATE-TIME:20201220T120000
DTSTAMP;VALUE=DATE-TIME:20260420T010301Z
UID:10e2c81c692843529c832fe97645bd99@www.isprambiente.gov.it
CONTACT:https://www.artemidefirenze.com/evento/laboratorio-per-piccoli-pal
 eontologi-al-museo-gamps-di-scandicci/
CREATED;VALUE=DATE-TIME:20201203T100239Z
LAST-MODIFIED;VALUE=DATE-TIME:20230120T134356Z
URL:https://www.isprambiente.gov.it/it/attivita/museo/calendario-eventi/20
 20/piccoli-paleontologi-alla-scoperta-della-preistoria-2013-laboratorio-al
 -museo-gamps-di-scandicci-1
END:VEVENT
BEGIN:VTIMEZONE
TZID:Europe/Berlin
X-LIC-LOCATION:Europe/Berlin
BEGIN:STANDARD
DTSTART;VALUE=DATE-TIME:20201025T020000
TZNAME:CET
TZOFFSETFROM:+0200
TZOFFSETTO:+0100
END:STANDARD
END:VTIMEZONE
END:VCALENDAR
