BEGIN:VCALENDAR
VERSION:2.0
PRODID:-//Plone.org//NONSGML plone.app.event//EN
X-WR-TIMEZONE:Europe/Berlin
BEGIN:VEVENT
SUMMARY:Piccoli paleontologi alla scoperta della preistoria – Laboratori
 o al Museo Gamps di Scandicci
DTSTART;TZID=Europe/Berlin;VALUE=DATE-TIME:20200926T090000
DTEND;TZID=Europe/Berlin;VALUE=DATE-TIME:20200926T100000
DTSTAMP;VALUE=DATE-TIME:20260419T203053Z
UID:73e437479ed547dd85ee2f46a258a818@www.isprambiente.gov.it
CONTACT:https://www.artemidefirenze.com/evento/laboratorio-per-piccoli-pal
 eontologi-al-museo-gamps-di-scandicci/
CREATED;VALUE=DATE-TIME:20200909T072744Z
LAST-MODIFIED;VALUE=DATE-TIME:20230120T133415Z
URL:https://www.isprambiente.gov.it/it/attivita/museo/calendario-eventi/20
 20/piccoli-paleontologi-alla-scoperta-della-preistoria-2013-laboratorio-al
 -museo-gamps-di-scandicci
END:VEVENT
BEGIN:VTIMEZONE
TZID:Europe/Berlin
X-LIC-LOCATION:Europe/Berlin
BEGIN:DAYLIGHT
DTSTART;VALUE=DATE-TIME:20200329T030000
TZNAME:CEST
TZOFFSETFROM:+0100
TZOFFSETTO:+0200
END:DAYLIGHT
END:VTIMEZONE
END:VCALENDAR
