BEGIN:VCALENDAR
VERSION:2.0
PRODID:-//Plone.org//NONSGML plone.app.event//EN
X-WR-TIMEZONE:Europe/Berlin
BEGIN:VEVENT
SUMMARY:QUANDO SI NUOTAVA AL CRODON DEL GEVERO
DTSTART;TZID=Europe/Berlin;VALUE=DATE-TIME:20201119T090000
DTEND;TZID=Europe/Berlin;VALUE=DATE-TIME:20201119T100000
DTSTAMP;VALUE=DATE-TIME:20260419T221629Z
UID:128987dbdc61494eb5f2a8c19c8ec037@www.isprambiente.gov.it
CREATED;VALUE=DATE-TIME:20201109T084714Z
LAST-MODIFIED;VALUE=DATE-TIME:20230120T134356Z
URL:https://www.isprambiente.gov.it/it/attivita/museo/calendario-eventi/20
 20/quando-si-nuotava-al-crodon-del-gevero
END:VEVENT
BEGIN:VTIMEZONE
TZID:Europe/Berlin
X-LIC-LOCATION:Europe/Berlin
BEGIN:STANDARD
DTSTART;VALUE=DATE-TIME:20201025T020000
TZNAME:CET
TZOFFSETFROM:+0200
TZOFFSETTO:+0100
END:STANDARD
END:VTIMEZONE
END:VCALENDAR
