BEGIN:VCALENDAR
VERSION:2.0
PRODID:-//Plone.org//NONSGML plone.app.event//EN
X-WR-TIMEZONE:Europe/Berlin
BEGIN:VEVENT
SUMMARY:Riapre la mostra “Pesci fossili dai monti friulani”!
DTSTART;TZID=Europe/Berlin;VALUE=DATE-TIME:20200518T080000
DTEND;TZID=Europe/Berlin;VALUE=DATE-TIME:20200719T090000
DTSTAMP;VALUE=DATE-TIME:20260419T203053Z
UID:1bd5ef1f721046c3a15792322b02b2f7@www.isprambiente.gov.it
CONTACT:https://www.geoparcoalpicarniche.org/it/2020/05/14/riapre-la-mostr
 a-pesci-fossili-dai-monti-friulani/
CREATED;VALUE=DATE-TIME:20200525T061725Z
LAST-MODIFIED;VALUE=DATE-TIME:20230120T133405Z
URL:https://www.isprambiente.gov.it/it/attivita/museo/calendario-eventi/20
 20/riapre-la-mostra-201cpesci-fossili-dai-monti-friulani201d
END:VEVENT
BEGIN:VTIMEZONE
TZID:Europe/Berlin
X-LIC-LOCATION:Europe/Berlin
BEGIN:DAYLIGHT
DTSTART;VALUE=DATE-TIME:20200329T030000
TZNAME:CEST
TZOFFSETFROM:+0100
TZOFFSETTO:+0200
END:DAYLIGHT
END:VTIMEZONE
END:VCALENDAR
