BEGIN:VCALENDAR
VERSION:2.0
PRODID:-//Plone.org//NONSGML plone.app.event//EN
X-WR-TIMEZONE:Europe/Berlin
BEGIN:VEVENT
SUMMARY:Stromboli\, la meraviglia delle sue spettacolari esplosioni e la c
 riticità di un vulcano sempre attivo
DTSTART;TZID=Europe/Berlin;VALUE=DATE-TIME:20200115T083000
DTEND;TZID=Europe/Berlin;VALUE=DATE-TIME:20200115T083000
DTSTAMP;VALUE=DATE-TIME:20260419T220344Z
UID:795f346ea7c944e9995d3b5fda476956@www.isprambiente.gov.it
CREATED;VALUE=DATE-TIME:20200116T093252Z
LAST-MODIFIED;VALUE=DATE-TIME:20230120T133405Z
URL:https://www.isprambiente.gov.it/it/attivita/museo/calendario-eventi/20
 20/stromboli-la-meraviglia-delle-sue-spettacolari-esplosioni-e-la-criticit
 a-di-un-vulcano-sempre-attivo
END:VEVENT
BEGIN:VTIMEZONE
TZID:Europe/Berlin
X-LIC-LOCATION:Europe/Berlin
BEGIN:STANDARD
DTSTART;VALUE=DATE-TIME:20191027T020000
TZNAME:CET
TZOFFSETFROM:+0200
TZOFFSETTO:+0100
END:STANDARD
END:VTIMEZONE
END:VCALENDAR
