BEGIN:VCALENDAR
VERSION:2.0
PRODID:-//Plone.org//NONSGML plone.app.event//EN
X-WR-TIMEZONE:Europe/Berlin
BEGIN:VEVENT
SUMMARY:Sulcis international meeting - Raw Materials for circular economy
DTSTART;TZID=Europe/Berlin;VALUE=DATE-TIME:20201120T110000
DTEND;TZID=Europe/Berlin;VALUE=DATE-TIME:20201120T120000
DTSTAMP;VALUE=DATE-TIME:20260419T221641Z
UID:41892445dd014c309007ce668f7e3f0b@www.isprambiente.gov.it
CONTACT:https://www.cnr.it/it/evento/16948
CREATED;VALUE=DATE-TIME:20201020T095254Z
LAST-MODIFIED;VALUE=DATE-TIME:20230120T133416Z
URL:https://www.isprambiente.gov.it/it/attivita/museo/calendario-eventi/20
 20/sulcis-international-meeting-raw-materials-for-circular-economy
END:VEVENT
BEGIN:VTIMEZONE
TZID:Europe/Berlin
X-LIC-LOCATION:Europe/Berlin
BEGIN:STANDARD
DTSTART;VALUE=DATE-TIME:20201025T020000
TZNAME:CET
TZOFFSETFROM:+0200
TZOFFSETTO:+0100
END:STANDARD
END:VTIMEZONE
END:VCALENDAR
