BEGIN:VCALENDAR
VERSION:2.0
PRODID:-//Plone.org//NONSGML plone.app.event//EN
X-WR-TIMEZONE:Europe/Berlin
BEGIN:VEVENT
SUMMARY:SUMMER TIME 2020
DTSTART;TZID=Europe/Berlin;VALUE=DATE-TIME:20200701T100000
DTEND;TZID=Europe/Berlin;VALUE=DATE-TIME:20200830T110000
DTSTAMP;VALUE=DATE-TIME:20260419T202513Z
UID:2d8d435a4eec49a19194e118ff0387f5@www.isprambiente.gov.it
CONTACT:https://www.grottagigante.it/evento/summer-time-2020/
CREATED;VALUE=DATE-TIME:20200803T083424Z
LAST-MODIFIED;VALUE=DATE-TIME:20230120T133415Z
URL:https://www.isprambiente.gov.it/it/attivita/museo/calendario-eventi/20
 20/summer-time-2020
END:VEVENT
BEGIN:VTIMEZONE
TZID:Europe/Berlin
X-LIC-LOCATION:Europe/Berlin
BEGIN:DAYLIGHT
DTSTART;VALUE=DATE-TIME:20200329T030000
TZNAME:CEST
TZOFFSETFROM:+0100
TZOFFSETTO:+0200
END:DAYLIGHT
END:VTIMEZONE
END:VCALENDAR
