BEGIN:VCALENDAR
VERSION:2.0
PRODID:-//Plone.org//NONSGML plone.app.event//EN
X-WR-TIMEZONE:Europe/Berlin
BEGIN:VEVENT
SUMMARY:Terza giornata di Geologia e Storia: Cavità sotterranee nascoste 
 o scomparse sotto il tessuto urbano
DTSTART;TZID=Europe/Berlin;VALUE=DATE-TIME:20200122T084000
DTEND;TZID=Europe/Berlin;VALUE=DATE-TIME:20200122T084000
DTSTAMP;VALUE=DATE-TIME:20260419T234715Z
UID:28d0e05be1c443098569b00a7c8ffcc9@www.isprambiente.gov.it
CREATED;VALUE=DATE-TIME:20200116T093838Z
LAST-MODIFIED;VALUE=DATE-TIME:20230120T133405Z
URL:https://www.isprambiente.gov.it/it/attivita/museo/calendario-eventi/20
 20/terza-giornata-di-geologia-e-storia-cavita-sotterranee-nascoste-o-scomp
 arse-sotto-il-tessuto-urbano
END:VEVENT
BEGIN:VTIMEZONE
TZID:Europe/Berlin
X-LIC-LOCATION:Europe/Berlin
BEGIN:STANDARD
DTSTART;VALUE=DATE-TIME:20191027T020000
TZNAME:CET
TZOFFSETFROM:+0200
TZOFFSETTO:+0100
END:STANDARD
END:VTIMEZONE
END:VCALENDAR
