BEGIN:VCALENDAR
VERSION:2.0
PRODID:-//Plone.org//NONSGML plone.app.event//EN
X-WR-TIMEZONE:Europe/Berlin
BEGIN:VEVENT
SUMMARY:Tree Time - Arte e scienza per una nuova alleanza con la natura
DTSTART;TZID=Europe/Berlin;VALUE=DATE-TIME:20201103T090000
DTEND;TZID=Europe/Berlin;VALUE=DATE-TIME:20210530T100000
DTSTAMP;VALUE=DATE-TIME:20260419T221512Z
UID:8cefeccaedba4aaaac638dc81a3c6ed0@www.isprambiente.gov.it
CONTACT:http://www.anms.it/eventi/dettaglio_evento/4552
CREATED;VALUE=DATE-TIME:20201103T084722Z
LAST-MODIFIED;VALUE=DATE-TIME:20230120T134356Z
URL:https://www.isprambiente.gov.it/it/attivita/museo/calendario-eventi/20
 20/tree-time-arte-e-scienza-per-una-nuova-alleanza-con-la-natura
END:VEVENT
BEGIN:VTIMEZONE
TZID:Europe/Berlin
X-LIC-LOCATION:Europe/Berlin
BEGIN:STANDARD
DTSTART;VALUE=DATE-TIME:20201025T020000
TZNAME:CET
TZOFFSETFROM:+0200
TZOFFSETTO:+0100
END:STANDARD
BEGIN:DAYLIGHT
DTSTART;VALUE=DATE-TIME:20210328T030000
TZNAME:CEST
TZOFFSETFROM:+0100
TZOFFSETTO:+0200
END:DAYLIGHT
END:VTIMEZONE
END:VCALENDAR
