BEGIN:VCALENDAR
VERSION:2.0
PRODID:-//Plone.org//NONSGML plone.app.event//EN
X-WR-TIMEZONE:Europe/Berlin
BEGIN:VEVENT
SUMMARY:TURISMO E BENI CULTURALI NELL’AGENDA EUROPEA DELLA CULTURA 2021-
 2027
DTSTART;TZID=Europe/Berlin;VALUE=DATE-TIME:20201128T090000
DTEND;TZID=Europe/Berlin;VALUE=DATE-TIME:20201128T100000
DTSTAMP;VALUE=DATE-TIME:20260419T203053Z
UID:70487cc5e5aa4236aa521c1b11db333b@www.isprambiente.gov.it
CONTACT:https://dtclazio.it/eventi/turismo-e-beni-culturali-nell%E2%80%99a
 genda-europea-della-cultura-2021-2027
CREATED;VALUE=DATE-TIME:20200921T074130Z
LAST-MODIFIED;VALUE=DATE-TIME:20230120T133415Z
URL:https://www.isprambiente.gov.it/it/attivita/museo/calendario-eventi/20
 20/turismo-e-beni-culturali-nell2019agenda-europea-della-cultura-2021-2027
END:VEVENT
BEGIN:VTIMEZONE
TZID:Europe/Berlin
X-LIC-LOCATION:Europe/Berlin
BEGIN:STANDARD
DTSTART;VALUE=DATE-TIME:20201025T020000
TZNAME:CET
TZOFFSETFROM:+0200
TZOFFSETTO:+0100
END:STANDARD
END:VTIMEZONE
END:VCALENDAR
