BEGIN:VCALENDAR
VERSION:2.0
PRODID:-//Plone.org//NONSGML plone.app.event//EN
X-WR-TIMEZONE:Europe/Berlin
BEGIN:VEVENT
SUMMARY:Una giornata a Montecatini Val di Cecina
DTSTART;TZID=Europe/Berlin;VALUE=DATE-TIME:20201101T090000
DTEND;TZID=Europe/Berlin;VALUE=DATE-TIME:20201101T100000
DTSTAMP;VALUE=DATE-TIME:20260419T220646Z
UID:270b9c301a4e4312a16b2b6e7ccb7149@www.isprambiente.gov.it
CONTACT:https://www.museodelleminieremontecatini.it/news-ed-eventi/
CREATED;VALUE=DATE-TIME:20201103T083117Z
LAST-MODIFIED;VALUE=DATE-TIME:20230120T134345Z
URL:https://www.isprambiente.gov.it/it/attivita/museo/calendario-eventi/20
 20/una-giornata-a-montecatini-val-di-cecina
END:VEVENT
BEGIN:VTIMEZONE
TZID:Europe/Berlin
X-LIC-LOCATION:Europe/Berlin
BEGIN:STANDARD
DTSTART;VALUE=DATE-TIME:20201025T020000
TZNAME:CET
TZOFFSETFROM:+0200
TZOFFSETTO:+0100
END:STANDARD
END:VTIMEZONE
END:VCALENDAR
