BEGIN:VCALENDAR
VERSION:2.0
PRODID:-//Plone.org//NONSGML plone.app.event//EN
X-WR-TIMEZONE:Europe/Berlin
BEGIN:VEVENT
SUMMARY:UNA NOTTE IN MINIERA
DTSTART;TZID=Europe/Berlin;VALUE=DATE-TIME:20200731T100000
DTEND;TZID=Europe/Berlin;VALUE=DATE-TIME:20200828T110000
DTSTAMP;VALUE=DATE-TIME:20260419T233302Z
UID:10abcc2ce7b54d1784fa30709d346d8b@www.isprambiente.gov.it
CONTACT:http://www.ecomuseominiere.it/eventi/una-notte-in-miniera-2020-07-
 31/
CREATED;VALUE=DATE-TIME:20200803T083016Z
LAST-MODIFIED;VALUE=DATE-TIME:20230120T133415Z
URL:https://www.isprambiente.gov.it/it/attivita/museo/calendario-eventi/20
 20/una-notte-in-miniera
END:VEVENT
BEGIN:VTIMEZONE
TZID:Europe/Berlin
X-LIC-LOCATION:Europe/Berlin
BEGIN:DAYLIGHT
DTSTART;VALUE=DATE-TIME:20200329T030000
TZNAME:CEST
TZOFFSETFROM:+0100
TZOFFSETTO:+0200
END:DAYLIGHT
END:VTIMEZONE
END:VCALENDAR
