BEGIN:VCALENDAR
VERSION:2.0
PRODID:-//Plone.org//NONSGML plone.app.event//EN
X-WR-TIMEZONE:Europe/Berlin
BEGIN:VEVENT
SUMMARY:Urban Nature
DTSTART;TZID=Europe/Berlin;VALUE=DATE-TIME:20201004T090000
DTEND;TZID=Europe/Berlin;VALUE=DATE-TIME:20201004T100000
DTSTAMP;VALUE=DATE-TIME:20260419T202625Z
UID:836309295e314868950f0d836f42941c@www.isprambiente.gov.it
CONTACT:https://www.wwf.it/urban_nature.cfm
CREATED;VALUE=DATE-TIME:20200921T073324Z
LAST-MODIFIED;VALUE=DATE-TIME:20230120T133415Z
URL:https://www.isprambiente.gov.it/it/attivita/museo/calendario-eventi/20
 20/urban-nature
END:VEVENT
BEGIN:VTIMEZONE
TZID:Europe/Berlin
X-LIC-LOCATION:Europe/Berlin
BEGIN:DAYLIGHT
DTSTART;VALUE=DATE-TIME:20200329T030000
TZNAME:CEST
TZOFFSETFROM:+0100
TZOFFSETTO:+0200
END:DAYLIGHT
END:VTIMEZONE
END:VCALENDAR
