BEGIN:VCALENDAR
VERSION:2.0
PRODID:-//Plone.org//NONSGML plone.app.event//EN
X-WR-TIMEZONE:Europe/Berlin
BEGIN:VEVENT
SUMMARY:VIAGGIO AL CENTRO DELLA TERRA
DTSTART;TZID=Europe/Berlin;VALUE=DATE-TIME:20201004T090000
DTEND;TZID=Europe/Berlin;VALUE=DATE-TIME:20201004T100000
DTSTAMP;VALUE=DATE-TIME:20260419T202624Z
UID:0a67fa0d3dfc4917851c2710da341e72@www.isprambiente.gov.it
CONTACT:https://www.settimanaterra.org/node/4166
CREATED;VALUE=DATE-TIME:20200930T075950Z
LAST-MODIFIED;VALUE=DATE-TIME:20230120T133415Z
URL:https://www.isprambiente.gov.it/it/attivita/museo/calendario-eventi/20
 20/viaggio-al-centro-della-terra
END:VEVENT
BEGIN:VTIMEZONE
TZID:Europe/Berlin
X-LIC-LOCATION:Europe/Berlin
BEGIN:DAYLIGHT
DTSTART;VALUE=DATE-TIME:20200329T030000
TZNAME:CEST
TZOFFSETFROM:+0100
TZOFFSETTO:+0200
END:DAYLIGHT
END:VTIMEZONE
END:VCALENDAR
