BEGIN:VCALENDAR
VERSION:2.0
PRODID:-//Plone.org//NONSGML plone.app.event//EN
X-WR-TIMEZONE:Europe/Berlin
BEGIN:VEVENT
SUMMARY:Visite Porto Flavia al tramonto
DTSTART;TZID=Europe/Berlin;VALUE=DATE-TIME:20200710T100000
DTEND;TZID=Europe/Berlin;VALUE=DATE-TIME:20200828T110000
DTSTAMP;VALUE=DATE-TIME:20260420T010037Z
UID:03cbe48c9f124bc4bd0b2d635b8702d0@www.isprambiente.gov.it
CONTACT:http://www.kalariseventi.com/porto-flavia-al-tramonto-10-luglio-28
 -agosto-2020/
CREATED;VALUE=DATE-TIME:20200803T081623Z
LAST-MODIFIED;VALUE=DATE-TIME:20230120T133415Z
URL:https://www.isprambiente.gov.it/it/attivita/museo/calendario-eventi/20
 20/visite-porto-flavia-al-tramonto
END:VEVENT
BEGIN:VTIMEZONE
TZID:Europe/Berlin
X-LIC-LOCATION:Europe/Berlin
BEGIN:DAYLIGHT
DTSTART;VALUE=DATE-TIME:20200329T030000
TZNAME:CEST
TZOFFSETFROM:+0100
TZOFFSETTO:+0200
END:DAYLIGHT
END:VTIMEZONE
END:VCALENDAR
