BEGIN:VCALENDAR
VERSION:2.0
PRODID:-//Plone.org//NONSGML plone.app.event//EN
X-WR-TIMEZONE:Europe/Berlin
BEGIN:VEVENT
SUMMARY:Webinar CNR-IGAG - La tecnologia waterjet e la sua applicazione al
 la lavorazione di lapidei ornamentali
DTSTART;TZID=Europe/Berlin;VALUE=DATE-TIME:20201013T090000
DTEND;TZID=Europe/Berlin;VALUE=DATE-TIME:20201013T100000
DTSTAMP;VALUE=DATE-TIME:20260419T203136Z
UID:36bfc35ea2c543fdb24ae7ed6fa044f4@www.isprambiente.gov.it
CREATED;VALUE=DATE-TIME:20201006T072349Z
LAST-MODIFIED;VALUE=DATE-TIME:20230120T133415Z
URL:https://www.isprambiente.gov.it/it/attivita/museo/calendario-eventi/20
 20/webinar-cnr-igag-la-tecnologia-waterjet-e-la-sua-applicazione-alla-lavo
 razione-di-lapidei-ornamentali
END:VEVENT
BEGIN:VTIMEZONE
TZID:Europe/Berlin
X-LIC-LOCATION:Europe/Berlin
BEGIN:DAYLIGHT
DTSTART;VALUE=DATE-TIME:20200329T030000
TZNAME:CEST
TZOFFSETFROM:+0100
TZOFFSETTO:+0200
END:DAYLIGHT
END:VTIMEZONE
END:VCALENDAR
