BEGIN:VCALENDAR
VERSION:2.0
PRODID:-//Plone.org//NONSGML plone.app.event//EN
X-WR-TIMEZONE:Europe/Berlin
BEGIN:VEVENT
SUMMARY:Webinar CNR-IGAG - Monitoraggio di processi superficiali in vulcan
 i attivi
DTSTART;TZID=Europe/Berlin;VALUE=DATE-TIME:20201027T090000
DTEND;TZID=Europe/Berlin;VALUE=DATE-TIME:20201027T100000
DTSTAMP;VALUE=DATE-TIME:20260419T234613Z
UID:824fbb2e393f44e891dfcb3c87e63e29@www.isprambiente.gov.it
CREATED;VALUE=DATE-TIME:20201006T072517Z
LAST-MODIFIED;VALUE=DATE-TIME:20230120T133415Z
URL:https://www.isprambiente.gov.it/it/attivita/museo/calendario-eventi/20
 20/webinar-cnr-igag-monitoraggio-di-processi-superficiali-in-vulcani-attiv
 i
END:VEVENT
BEGIN:VTIMEZONE
TZID:Europe/Berlin
X-LIC-LOCATION:Europe/Berlin
BEGIN:STANDARD
DTSTART;VALUE=DATE-TIME:20201025T020000
TZNAME:CET
TZOFFSETFROM:+0200
TZOFFSETTO:+0100
END:STANDARD
END:VTIMEZONE
END:VCALENDAR
