BEGIN:VCALENDAR
VERSION:2.0
PRODID:-//Plone.org//NONSGML plone.app.event//EN
X-WR-TIMEZONE:Europe/Berlin
BEGIN:VEVENT
SUMMARY:XI CONVEGNO INTERNAZIONALE DIAGNOSI\, CONSERVAZIONE E VALORIZZAZIO
 NE DEL PATRIMONIO CULTURALE
DTSTART;TZID=Europe/Berlin;VALUE=DATE-TIME:20201210T090000
DTEND;TZID=Europe/Berlin;VALUE=DATE-TIME:20201211T100000
DTSTAMP;VALUE=DATE-TIME:20260419T234714Z
UID:d32d65c61b344e6c99b4279cafbb1e83@www.isprambiente.gov.it
CONTACT:https://dtclazio.it/eventi/xi-convegno-internazionale-diagnosi-con
 servazione-e-valorizzazione-del-patrimonio-culturale
CREATED;VALUE=DATE-TIME:20200921T073832Z
LAST-MODIFIED;VALUE=DATE-TIME:20230120T133415Z
LOCATION:Napoli
URL:https://www.isprambiente.gov.it/it/attivita/museo/calendario-eventi/20
 20/xi-convegno-internazionale-diagnosi-conservazione-e-valorizzazione-del-
 patrimonio-culturale
END:VEVENT
BEGIN:VTIMEZONE
TZID:Europe/Berlin
X-LIC-LOCATION:Europe/Berlin
BEGIN:STANDARD
DTSTART;VALUE=DATE-TIME:20201025T020000
TZNAME:CET
TZOFFSETFROM:+0200
TZOFFSETTO:+0100
END:STANDARD
END:VTIMEZONE
END:VCALENDAR
