BEGIN:VCALENDAR
VERSION:2.0
PRODID:-//Plone.org//NONSGML plone.app.event//EN
X-WR-TIMEZONE:Europe/Berlin
BEGIN:VEVENT
SUMMARY:ZOORASSIC PARK a NAPOLI
DTSTART;TZID=Europe/Berlin;VALUE=DATE-TIME:20200819T090000
DTEND;TZID=Europe/Berlin;VALUE=DATE-TIME:20201025T100000
DTSTAMP;VALUE=DATE-TIME:20260419T220007Z
UID:3fe9093e2ec24cc28ac69c5983285e91@www.isprambiente.gov.it
CREATED;VALUE=DATE-TIME:20200921T071724Z
LAST-MODIFIED;VALUE=DATE-TIME:20230120T133415Z
URL:https://www.isprambiente.gov.it/it/attivita/museo/calendario-eventi/20
 20/zoorassic-park-a-napoli
END:VEVENT
BEGIN:VTIMEZONE
TZID:Europe/Berlin
X-LIC-LOCATION:Europe/Berlin
BEGIN:DAYLIGHT
DTSTART;VALUE=DATE-TIME:20200329T030000
TZNAME:CEST
TZOFFSETFROM:+0100
TZOFFSETTO:+0200
END:DAYLIGHT
BEGIN:STANDARD
DTSTART;VALUE=DATE-TIME:20201025T020000
TZNAME:CET
TZOFFSETFROM:+0200
TZOFFSETTO:+0100
END:STANDARD
END:VTIMEZONE
END:VCALENDAR
