BEGIN:VCALENDAR
VERSION:2.0
PRODID:-//Plone.org//NONSGML plone.app.event//EN
X-WR-TIMEZONE:Europe/Berlin
BEGIN:VEVENT
SUMMARY:1° EDIZIONE  AREZZO MINERAL SHOW
DTSTART;TZID=Europe/Berlin;VALUE=DATE-TIME:20250201T110000
DTEND;TZID=Europe/Berlin;VALUE=DATE-TIME:20250202T120000
DTSTAMP;VALUE=DATE-TIME:20260422T205647Z
UID:eb5ced1c263648f5a45517b99b8087ba@www.isprambiente.gov.it
CREATED;VALUE=DATE-TIME:20250129T104830Z
LAST-MODIFIED;VALUE=DATE-TIME:20250129T104833Z
URL:https://www.isprambiente.gov.it/it/attivita/museo/calendario-eventi/20
 25/1deg-edizione-arezzo-mineral-show
END:VEVENT
BEGIN:VTIMEZONE
TZID:Europe/Berlin
X-LIC-LOCATION:Europe/Berlin
BEGIN:STANDARD
DTSTART;VALUE=DATE-TIME:20241027T020000
TZNAME:CET
TZOFFSETFROM:+0200
TZOFFSETTO:+0100
END:STANDARD
END:VTIMEZONE
END:VCALENDAR
