BEGIN:VCALENDAR
VERSION:2.0
PRODID:-//Plone.org//NONSGML plone.app.event//EN
X-WR-TIMEZONE:Europe/Berlin
BEGIN:VEVENT
SUMMARY:“Storie di musei\, conversazioni tra colleghi” alla scoperta d
 el centro manifatturiero del marmo\, dall’area archeologica di Fossacava
  al museo di arte contemporanea.
DTSTART;TZID=Europe/Berlin;VALUE=DATE-TIME:20250529T100000
DTEND;TZID=Europe/Berlin;VALUE=DATE-TIME:20250529T110000
DTSTAMP;VALUE=DATE-TIME:20260422T211217Z
UID:7cf22ad1ba894097b6ef72f74daa0bea@www.isprambiente.gov.it
CONTACT:https://www.icom-italia.org/cr-toscana-storie-di-musei-conversazio
 ni-tra-colleghi-alla-scoperta-del-centro-manifatturiero-del-marmo-dallarea
 -archeologica-di-fossacava-al-museo-di-arte-contemporanea/
CREATED;VALUE=DATE-TIME:20250515T080655Z
LAST-MODIFIED;VALUE=DATE-TIME:20250515T080724Z
URL:https://www.isprambiente.gov.it/it/attivita/museo/calendario-eventi/20
 25/201cstorie-di-musei-conversazioni-tra-colleghi201d-alla-scoperta-del-ce
 ntro-manifatturiero-del-marmo-dall2019area-archeologica-di-fossacava-al-mu
 seo-di-arte-contemporanea
END:VEVENT
BEGIN:VTIMEZONE
TZID:Europe/Berlin
X-LIC-LOCATION:Europe/Berlin
BEGIN:DAYLIGHT
DTSTART;VALUE=DATE-TIME:20250330T030000
TZNAME:CEST
TZOFFSETFROM:+0100
TZOFFSETTO:+0200
END:DAYLIGHT
END:VTIMEZONE
END:VCALENDAR
