BEGIN:VCALENDAR
VERSION:2.0
PRODID:-//Plone.org//NONSGML plone.app.event//EN
X-WR-TIMEZONE:Europe/Berlin
BEGIN:VEVENT
SUMMARY:23° GENOVAMINERALSHOW
DTSTART;TZID=Europe/Berlin;VALUE=DATE-TIME:20250510T090000
DTEND;TZID=Europe/Berlin;VALUE=DATE-TIME:20250511T100000
DTSTAMP;VALUE=DATE-TIME:20260422T205349Z
UID:08a11b88d27a4443a7805baaeb9d9c00@www.isprambiente.gov.it
CONTACT:http://www.genovamineralshow.com/
CREATED;VALUE=DATE-TIME:20250509T072755Z
LAST-MODIFIED;VALUE=DATE-TIME:20250509T072805Z
URL:https://www.isprambiente.gov.it/it/attivita/museo/calendario-eventi/20
 25/23deg-genovamineralshow
END:VEVENT
BEGIN:VTIMEZONE
TZID:Europe/Berlin
X-LIC-LOCATION:Europe/Berlin
BEGIN:DAYLIGHT
DTSTART;VALUE=DATE-TIME:20250330T030000
TZNAME:CEST
TZOFFSETFROM:+0100
TZOFFSETTO:+0200
END:DAYLIGHT
END:VTIMEZONE
END:VCALENDAR
