BEGIN:VCALENDAR
VERSION:2.0
PRODID:-//Plone.org//NONSGML plone.app.event//EN
X-WR-TIMEZONE:Europe/Berlin
BEGIN:VEVENT
SUMMARY:250 anni del Museo di Storia Naturale
DTSTART;TZID=Europe/Berlin;VALUE=DATE-TIME:20250221T070000
DTEND;TZID=Europe/Berlin;VALUE=DATE-TIME:20250221T080000
DTSTAMP;VALUE=DATE-TIME:20260422T210144Z
UID:22edf1a21266461b9a5d8c90bb11d7e8@www.isprambiente.gov.it
CONTACT:https://www.sma.unifi.it/cmpro-v-p-982.html
CREATED;VALUE=DATE-TIME:20250206T063127Z
LAST-MODIFIED;VALUE=DATE-TIME:20250206T063130Z
URL:https://www.isprambiente.gov.it/it/attivita/museo/calendario-eventi/20
 25/250-anni-del-museo-di-storia-naturale
END:VEVENT
BEGIN:VTIMEZONE
TZID:Europe/Berlin
X-LIC-LOCATION:Europe/Berlin
BEGIN:STANDARD
DTSTART;VALUE=DATE-TIME:20241027T020000
TZNAME:CET
TZOFFSETFROM:+0200
TZOFFSETTO:+0100
END:STANDARD
END:VTIMEZONE
END:VCALENDAR
