BEGIN:VCALENDAR
VERSION:2.0
PRODID:-//Plone.org//NONSGML plone.app.event//EN
X-WR-TIMEZONE:Europe/Berlin
BEGIN:VEVENT
SUMMARY:26°edizione  - Preziosa Milano Mineral Show 2025
DTSTART;TZID=Europe/Berlin;VALUE=DATE-TIME:20251115T080000
DTEND;TZID=Europe/Berlin;VALUE=DATE-TIME:20251116T090000
DTSTAMP;VALUE=DATE-TIME:20260422T222529Z
UID:ca0e1243e2e64995a563b2b068b0aff3@www.isprambiente.gov.it
CONTACT:https://www.fierapreziosa.it/
CREATED;VALUE=DATE-TIME:20251014T064549Z
LAST-MODIFIED;VALUE=DATE-TIME:20251014T064556Z
URL:https://www.isprambiente.gov.it/it/attivita/museo/calendario-eventi/20
 25/26degedizione-preziosa-milano-mineral-show-2025
END:VEVENT
BEGIN:VTIMEZONE
TZID:Europe/Berlin
X-LIC-LOCATION:Europe/Berlin
BEGIN:STANDARD
DTSTART;VALUE=DATE-TIME:20251026T020000
TZNAME:CET
TZOFFSETFROM:+0200
TZOFFSETTO:+0100
END:STANDARD
END:VTIMEZONE
END:VCALENDAR
