BEGIN:VCALENDAR
VERSION:2.0
PRODID:-//Plone.org//NONSGML plone.app.event//EN
X-WR-TIMEZONE:Europe/Berlin
BEGIN:VEVENT
SUMMARY:40° anniversario della Escuela Superior de Ciencias de la Tierra
DTSTART;TZID=Europe/Berlin;VALUE=DATE-TIME:20250903T090000
DTEND;TZID=Europe/Berlin;VALUE=DATE-TIME:20250904T100000
DTSTAMP;VALUE=DATE-TIME:20260422T222542Z
UID:21af3897baa54e2981080c8e2719a6b2@www.isprambiente.gov.it
CONTACT:https://www.scintilena.com/40-anniversario-della-escuela-superior-
 de-ciencias-de-la-tierra/08/28/
CREATED;VALUE=DATE-TIME:20250901T071026Z
LAST-MODIFIED;VALUE=DATE-TIME:20250901T071032Z
URL:https://www.isprambiente.gov.it/it/attivita/museo/calendario-eventi/20
 25/40deg-anniversario-della-escuela-superior-de-ciencias-de-la-tierra
END:VEVENT
BEGIN:VTIMEZONE
TZID:Europe/Berlin
X-LIC-LOCATION:Europe/Berlin
BEGIN:DAYLIGHT
DTSTART;VALUE=DATE-TIME:20250330T030000
TZNAME:CEST
TZOFFSETFROM:+0100
TZOFFSETTO:+0200
END:DAYLIGHT
END:VTIMEZONE
END:VCALENDAR
