BEGIN:VCALENDAR
VERSION:2.0
PRODID:-//Plone.org//NONSGML plone.app.event//EN
X-WR-TIMEZONE:Europe/Berlin
BEGIN:VEVENT
SUMMARY:4° workshop RaStEM
DTSTART;TZID=Europe/Berlin;VALUE=DATE-TIME:20250212T110000
DTEND;TZID=Europe/Berlin;VALUE=DATE-TIME:20250212T120000
DTSTAMP;VALUE=DATE-TIME:20260422T205319Z
UID:a20a80aa92ea4179892c490cb3539f6e@www.isprambiente.gov.it
CONTACT:https://www.cngeologi.it/2025/01/22/4-workshop-rastem-trieste-12-f
 ebbraio-2025/
CREATED;VALUE=DATE-TIME:20250129T104929Z
LAST-MODIFIED;VALUE=DATE-TIME:20250129T104933Z
URL:https://www.isprambiente.gov.it/it/attivita/museo/calendario-eventi/20
 25/4deg-workshop-rastem
END:VEVENT
BEGIN:VTIMEZONE
TZID:Europe/Berlin
X-LIC-LOCATION:Europe/Berlin
BEGIN:STANDARD
DTSTART;VALUE=DATE-TIME:20241027T020000
TZNAME:CET
TZOFFSETFROM:+0200
TZOFFSETTO:+0100
END:STANDARD
END:VTIMEZONE
END:VCALENDAR
