BEGIN:VCALENDAR
VERSION:2.0
PRODID:-//Plone.org//NONSGML plone.app.event//EN
X-WR-TIMEZONE:Europe/Berlin
BEGIN:VEVENT
SUMMARY:50 Animali in via di Estinzione
DTSTART;TZID=Europe/Berlin;VALUE=DATE-TIME:20251115T070000
DTEND;TZID=Europe/Berlin;VALUE=DATE-TIME:20251115T080000
DTSTAMP;VALUE=DATE-TIME:20260422T222536Z
UID:938667e23051483d987dd92b1dcd726d@www.isprambiente.gov.it
CONTACT:https://www.msn.unipi.it/it/eventi/due-divulgatori-mille-animali/
CREATED;VALUE=DATE-TIME:20251107T063310Z
LAST-MODIFIED;VALUE=DATE-TIME:20251107T063319Z
URL:https://www.isprambiente.gov.it/it/attivita/museo/calendario-eventi/20
 25/50-animali-in-via-di-estinzione
END:VEVENT
BEGIN:VTIMEZONE
TZID:Europe/Berlin
X-LIC-LOCATION:Europe/Berlin
BEGIN:STANDARD
DTSTART;VALUE=DATE-TIME:20251026T020000
TZNAME:CET
TZOFFSETFROM:+0200
TZOFFSETTO:+0100
END:STANDARD
END:VTIMEZONE
END:VCALENDAR
