BEGIN:VCALENDAR
VERSION:2.0
PRODID:-//Plone.org//NONSGML plone.app.event//EN
X-WR-TIMEZONE:Europe/Berlin
BEGIN:VEVENT
SUMMARY:57° Giornata internazionale Mostra scambio dei minerali e fossili
DTSTART;TZID=Europe/Berlin;VALUE=DATE-TIME:20250719T130000
DTEND;TZID=Europe/Berlin;VALUE=DATE-TIME:20250719T140000
DTSTAMP;VALUE=DATE-TIME:20260422T210251Z
UID:863052341e5e4b53895b0807e68306d8@www.isprambiente.gov.it
CONTACT:https://www.turismomassamarittima.it/mostra-scambio-minerali-e-fos
 sili-tutti-gli-anni/
CREATED;VALUE=DATE-TIME:20250630T112804Z
LAST-MODIFIED;VALUE=DATE-TIME:20250630T112813Z
URL:https://www.isprambiente.gov.it/it/attivita/museo/calendario-eventi/20
 25/57deg-giornata-internazionale-mostra-scambio-dei-minerali-e-fossili
END:VEVENT
BEGIN:VTIMEZONE
TZID:Europe/Berlin
X-LIC-LOCATION:Europe/Berlin
BEGIN:DAYLIGHT
DTSTART;VALUE=DATE-TIME:20250330T030000
TZNAME:CEST
TZOFFSETFROM:+0100
TZOFFSETTO:+0200
END:DAYLIGHT
END:VTIMEZONE
END:VCALENDAR
