BEGIN:VCALENDAR
VERSION:2.0
PRODID:-//Plone.org//NONSGML plone.app.event//EN
X-WR-TIMEZONE:Europe/Berlin
BEGIN:VEVENT
SUMMARY:9° Congresso della Società Italiana di Malacologia
DTSTART;TZID=Europe/Berlin;VALUE=DATE-TIME:20251128T070000
DTEND;TZID=Europe/Berlin;VALUE=DATE-TIME:20251129T080000
DTSTAMP;VALUE=DATE-TIME:20260422T222536Z
UID:75b9ecf618ad4327aea15e2c952bd5b7@www.isprambiente.gov.it
CONTACT:https://www.societaitalianadimalacologia.it/eventi/1724-9-congress
 o-della-societa-italiana-di-malacologia-28-29-novembre-2025.html
CREATED;VALUE=DATE-TIME:20251128T061234Z
LAST-MODIFIED;VALUE=DATE-TIME:20251128T061238Z
URL:https://www.isprambiente.gov.it/it/attivita/museo/calendario-eventi/20
 25/9deg-congresso-della-societa-italiana-di-malacologia
END:VEVENT
BEGIN:VTIMEZONE
TZID:Europe/Berlin
X-LIC-LOCATION:Europe/Berlin
BEGIN:STANDARD
DTSTART;VALUE=DATE-TIME:20251026T020000
TZNAME:CET
TZOFFSETFROM:+0200
TZOFFSETTO:+0100
END:STANDARD
END:VTIMEZONE
END:VCALENDAR
