BEGIN:VCALENDAR
VERSION:2.0
PRODID:-//Plone.org//NONSGML plone.app.event//EN
X-WR-TIMEZONE:Europe/Berlin
BEGIN:VEVENT
SUMMARY:A Bologna la mostra "Artico. Viaggio interattivo al Polo Nord"
DTSTART;TZID=Europe/Berlin;VALUE=DATE-TIME:20250116T140000
DTEND;TZID=Europe/Berlin;VALUE=DATE-TIME:20250302T150000
DTSTAMP;VALUE=DATE-TIME:20260422T210302Z
UID:a4b29b1a19e84e9a97504f2b25d59392@www.isprambiente.gov.it
CONTACT:https://www.cnr.it//it/evento/19546/a-bologna-la-mostra-artico-via
 ggio-interattivo-al-polo-nord
CREATED;VALUE=DATE-TIME:20250107T131211Z
LAST-MODIFIED;VALUE=DATE-TIME:20250107T131215Z
URL:https://www.isprambiente.gov.it/it/attivita/museo/calendario-eventi/20
 25/a-bologna-la-mostra-artico-viaggio-interattivo-al-polo-nord
END:VEVENT
BEGIN:VTIMEZONE
TZID:Europe/Berlin
X-LIC-LOCATION:Europe/Berlin
BEGIN:STANDARD
DTSTART;VALUE=DATE-TIME:20241027T020000
TZNAME:CET
TZOFFSETFROM:+0200
TZOFFSETTO:+0100
END:STANDARD
END:VTIMEZONE
END:VCALENDAR
