BEGIN:VCALENDAR
VERSION:2.0
PRODID:-//Plone.org//NONSGML plone.app.event//EN
X-WR-TIMEZONE:Europe/Berlin
BEGIN:VEVENT
SUMMARY:A Busto Arsizio la 43ª Giornata Borsa-Scambio di Minerali e Fossi
 li
DTSTART;TZID=Europe/Berlin;VALUE=DATE-TIME:20251214T070000
DTEND;TZID=Europe/Berlin;VALUE=DATE-TIME:20251214T080000
DTSTAMP;VALUE=DATE-TIME:20260422T210252Z
UID:f7d0aa2ddd90406e86fc1d905c7a7684@www.isprambiente.gov.it
CONTACT:https://www.varesenews.it/2025/11/a-busto-arsizio-la-43a-giornata-
 borsa-scambio-di-minerali-e-fossili/2419579/
CREATED;VALUE=DATE-TIME:20251128T062535Z
LAST-MODIFIED;VALUE=DATE-TIME:20251128T062538Z
URL:https://www.isprambiente.gov.it/it/attivita/museo/calendario-eventi/20
 25/a-busto-arsizio-la-43a-giornata-borsa-scambio-di-minerali-e-fossili
END:VEVENT
BEGIN:VTIMEZONE
TZID:Europe/Berlin
X-LIC-LOCATION:Europe/Berlin
BEGIN:STANDARD
DTSTART;VALUE=DATE-TIME:20251026T020000
TZNAME:CET
TZOFFSETFROM:+0200
TZOFFSETTO:+0100
END:STANDARD
END:VTIMEZONE
END:VCALENDAR
