BEGIN:VCALENDAR
VERSION:2.0
PRODID:-//Plone.org//NONSGML plone.app.event//EN
X-WR-TIMEZONE:Europe/Berlin
BEGIN:VEVENT
SUMMARY:A Catania le fotografie di Fosco Maraini sull’eruzione dell’Et
 na del 1950-51
DTSTART;TZID=Europe/Berlin;VALUE=DATE-TIME:20251209T090000
DTEND;TZID=Europe/Berlin;VALUE=DATE-TIME:20260106T100000
DTSTAMP;VALUE=DATE-TIME:20260422T211048Z
UID:ac6d2b20e7984362bdb4568079acaf05@www.isprambiente.gov.it
CONTACT:https://www.ingv.it/stampa-urp/ufficio-stampa/note-stampa/mostra-f
 otografica-a-catania-le-fotografie-di-fosco-maraini-sull-eruzione-dell-etn
 a-del-1950-51
CREATED;VALUE=DATE-TIME:20251120T081806Z
LAST-MODIFIED;VALUE=DATE-TIME:20251120T081812Z
URL:https://www.isprambiente.gov.it/it/attivita/museo/calendario-eventi/20
 25/a-catania-le-fotografie-di-fosco-maraini-sull2019eruzione-dell2019etna-
 del-1950-51
END:VEVENT
BEGIN:VTIMEZONE
TZID:Europe/Berlin
X-LIC-LOCATION:Europe/Berlin
BEGIN:STANDARD
DTSTART;VALUE=DATE-TIME:20251026T020000
TZNAME:CET
TZOFFSETFROM:+0200
TZOFFSETTO:+0100
END:STANDARD
END:VTIMEZONE
END:VCALENDAR
