BEGIN:VCALENDAR
VERSION:2.0
PRODID:-//Plone.org//NONSGML plone.app.event//EN
X-WR-TIMEZONE:Europe/Berlin
BEGIN:VEVENT
SUMMARY:A Frascati da 20 anni si celebra la scienza
DTSTART;TZID=Europe/Berlin;VALUE=DATE-TIME:20250920T070000
DTEND;TZID=Europe/Berlin;VALUE=DATE-TIME:20250927T080000
DTSTAMP;VALUE=DATE-TIME:20260422T210130Z
UID:5f19cd9c8b42462188d6cfa190bb40a1@www.isprambiente.gov.it
CONTACT:https://www.frascatiscienza.it/a-frascati-da-20-anni-si-celebra-la
 -scienza/
CREATED;VALUE=DATE-TIME:20250915T052543Z
LAST-MODIFIED;VALUE=DATE-TIME:20250915T052547Z
URL:https://www.isprambiente.gov.it/it/attivita/museo/calendario-eventi/20
 25/a-frascati-da-20-anni-si-celebra-la-scienza
END:VEVENT
BEGIN:VTIMEZONE
TZID:Europe/Berlin
X-LIC-LOCATION:Europe/Berlin
BEGIN:DAYLIGHT
DTSTART;VALUE=DATE-TIME:20250330T030000
TZNAME:CEST
TZOFFSETFROM:+0100
TZOFFSETTO:+0200
END:DAYLIGHT
END:VTIMEZONE
END:VCALENDAR
