BEGIN:VCALENDAR
VERSION:2.0
PRODID:-//Plone.org//NONSGML plone.app.event//EN
X-WR-TIMEZONE:Europe/Berlin
BEGIN:VEVENT
SUMMARY:A Trecastagni il Festival Vulcani 2025: scienza\, arte e divulgazi
 one per raccontare i vulcani del mondo
DTSTART;TZID=Europe/Berlin;VALUE=DATE-TIME:20250627T130000
DTEND;TZID=Europe/Berlin;VALUE=DATE-TIME:20250629T140000
DTSTAMP;VALUE=DATE-TIME:20260422T211049Z
UID:d3928469010e4041bc20d88e26db08b1@www.isprambiente.gov.it
CONTACT:https://www.ingv.it/stampa-e-urp/stampa/comunicati-stampa/5770-etn
 a-a-trecastagni-il-festival-vulcani-2025-scienza-arte-e-divulgazione-per-r
 accontare-i-vulcani-del-mondo
CREATED;VALUE=DATE-TIME:20250624T112956Z
LAST-MODIFIED;VALUE=DATE-TIME:20250624T113002Z
URL:https://www.isprambiente.gov.it/it/attivita/museo/calendario-eventi/20
 25/a-trecastagni-il-festival-vulcani-2025-scienza-arte-e-divulgazione-per-
 raccontare-i-vulcani-del-mondo
END:VEVENT
BEGIN:VTIMEZONE
TZID:Europe/Berlin
X-LIC-LOCATION:Europe/Berlin
BEGIN:DAYLIGHT
DTSTART;VALUE=DATE-TIME:20250330T030000
TZNAME:CEST
TZOFFSETFROM:+0100
TZOFFSETTO:+0200
END:DAYLIGHT
END:VTIMEZONE
END:VCALENDAR
