BEGIN:VCALENDAR
VERSION:2.0
PRODID:-//Plone.org//NONSGML plone.app.event//EN
X-WR-TIMEZONE:Europe/Berlin
BEGIN:VEVENT
SUMMARY:AIGA- Webinar - Monitoraggio geo-ambientale
DTSTART;TZID=Europe/Berlin;VALUE=DATE-TIME:20251121T070000
DTEND;TZID=Europe/Berlin;VALUE=DATE-TIME:20251121T080000
DTSTAMP;VALUE=DATE-TIME:20260422T210145Z
UID:cc426842e43c4a51a3cefc99299c2db6@www.isprambiente.gov.it
CREATED;VALUE=DATE-TIME:20251023T053915Z
LAST-MODIFIED;VALUE=DATE-TIME:20251023T053919Z
URL:https://www.isprambiente.gov.it/it/attivita/museo/calendario-eventi/20
 25/aiga-webinar-monitoraggio-geo-ambientale
END:VEVENT
BEGIN:VTIMEZONE
TZID:Europe/Berlin
X-LIC-LOCATION:Europe/Berlin
BEGIN:STANDARD
DTSTART;VALUE=DATE-TIME:20251026T020000
TZNAME:CET
TZOFFSETFROM:+0200
TZOFFSETTO:+0100
END:STANDARD
END:VTIMEZONE
END:VCALENDAR
